BEGIN:VCALENDAR
VERSION:2.0
PRODID:-//ChamberMaster//Event Calendar 2.0//EN
METHOD:PUBLISH
X-PUBLISHED-TTL:P3D
REFRESH-INTERVAL:P3D
CALSCALE:GREGORIAN
BEGIN:VEVENT
DTSTART:20161018T230000Z
DTEND:20161019T020000Z
X-MICROSOFT-CDO-ALLDAYEVENT:FALSE
SUMMARY:National Theatre Live Presents: Jane Eyre
DESCRIPTION:Almost 170 years on\, Charlotte Brontë’s story of the trailblazing Jane is as inspiring as ever. This bold and dynamic production on the big screen uncovers one woman’s fight for freedom and fulfillment on her own terms. From her beginnings as a destitute orphan\, Jane Eyre’s spirited heroine faces life’s obstacles head-on\, surviving poverty\, injustice and the discovery of bitter betrayal before taking the ultimate decision to follow her heart.
X-ALT-DESC;FMTTYPE=text/html:Almost 170 years on\, Charlotte Brontë’s story of the trailblazing Jane is as inspiring as ever. This bold and dynamic production on the big screen uncovers one woman’s fight for freedom and fulfillment on her own terms. From her beginnings as a destitute orphan\, Jane Eyre’s spirited heroine faces life’s obstacles head-on\, surviving poverty\, injustice and the discovery of bitter betrayal before taking the ultimate decision to follow her heart.\n
LOCATION:Harbison Theatre at Midlands Technical College 7300 College Street Irmo\, SC 29063 803-407-5011
UID:e.1333.2443
SEQUENCE:3
DTSTAMP:20260425T003729Z
URL:https://business.greaterirmochamber.com/events/details/national-theatre-live-presents-jane-eyre-10-18-2016-2443
END:VEVENT

END:VCALENDAR
