BEGIN:VCALENDAR
VERSION:2.0
PRODID:-//ChamberMaster//Event Calendar 2.0//EN
METHOD:PUBLISH
X-PUBLISHED-TTL:P3D
REFRESH-INTERVAL:P3D
CALSCALE:GREGORIAN
BEGIN:VEVENT
DTSTART:20170308T000000Z
DTEND:20170308T030000Z
X-MICROSOFT-CDO-ALLDAYEVENT:FALSE
SUMMARY:National Theatre Live Presents: Medea
DESCRIPTION:In Euripides’ powerful tragedy\, Medea is a wife and a mother. For the sake of her husband\, Jason\, she’s left her home and borne two sons in exile. But when he abandons his family for a new life\, Medea faces banishment and separation from her children. Cornered\, she begs for one day’s grace. It’s time enough. She exacts an appalling revenge and destroys everything she holds dear.
X-ALT-DESC;FMTTYPE=text/html:In Euripides’ powerful tragedy\, Medea is a wife and a mother. For the sake of her husband\, Jason\, she’s left her home and borne two sons in exile. But when he abandons his family for a new life\, Medea faces banishment and separation from her children. Cornered\, she begs for one day’s grace. It’s time enough. She exacts an appalling revenge and destroys everything she holds dear.\n
LOCATION:Harbison Theatre at Midlands Technical College 7300 College Street Irmo\, SC 29063 803-407-5011
UID:e.1333.2456
SEQUENCE:3
DTSTAMP:20260424T171803Z
URL:https://business.greaterirmochamber.com/events/details/national-theatre-live-presents-medea-03-07-2017-2456
END:VEVENT

END:VCALENDAR
