BEGIN:VCALENDAR
VERSION:2.0
PRODID:-//ChamberMaster//Event Calendar 2.0//EN
METHOD:PUBLISH
X-PUBLISHED-TTL:P3D
REFRESH-INTERVAL:P3D
CALSCALE:GREGORIAN
BEGIN:VEVENT
DTSTART:20161111T000000Z
DTEND:20161111T020000Z
X-MICROSOFT-CDO-ALLDAYEVENT:FALSE
SUMMARY:National Theatre Live Presents: The Audience
DESCRIPTION:For sixty years\, Queen Elizabeth II has met with each of her twelve Prime Ministers in a private weekly meeting. This meeting is known as "the audience." No one knows what they discuss\, not even their spouses. The original West End cast\, led by Academy and Olivier-award winner Helen Mirren\, will grace our screen to divulge the secrets of The Audience.
X-ALT-DESC;FMTTYPE=text/html:For sixty years\, Queen Elizabeth II has met with each of her twelve Prime Ministers in a private weekly meeting. This meeting is known as "the audience." No one knows what they discuss\, not even their spouses. The original West End cast\, led by Academy and Olivier-award winner Helen Mirren\, will grace our screen to divulge the secrets of The Audience. \n
LOCATION:Harbison Theatre at Midlands Technical College 7300 College Street Irmo\, SC 29063 803-407-5011
UID:e.1333.2444
SEQUENCE:3
DTSTAMP:20260424T230424Z
URL:https://business.greaterirmochamber.com/events/details/national-theatre-live-presents-the-audience-11-10-2016-2444
END:VEVENT

END:VCALENDAR
