BEGIN:VCALENDAR
VERSION:2.0
PRODID:-//ChamberMaster//Event Calendar 2.0//EN
METHOD:PUBLISH
X-PUBLISHED-TTL:P3D
REFRESH-INTERVAL:P3D
CALSCALE:GREGORIAN
BEGIN:VEVENT
DTSTART:20180303T190000Z
DTEND:20180303T220000Z
X-MICROSOFT-CDO-ALLDAYEVENT:FALSE
SUMMARY:New Classic Cinema: The Princess Bride
DESCRIPTION:As you wish! This 1980s classic takes the ingredients of a traditional fairytale   princes\, villains\, giants\, magical creatures\, sword fights\, revenge\, and brave rescues   and drenches them in clever humor. As familiar as the fairytale trappings will be the faces on the screen: Fred Savage\, Robin Wright\, Mandy Patinkin\, Billy Crystal\, and other Hollywood favorites comprise the excellent ensemble cast. Share this with your children as it was meant to be seen   on the big screen!
X-ALT-DESC;FMTTYPE=text/html:As you wish! This 1980s classic takes the ingredients of a traditional fairytale &ndash\; princes\, villains\, giants\, magical creatures\, sword fights\, revenge\, and brave rescues &ndash\; and drenches them in clever humor. As familiar as the fairytale trappings will be the faces on the screen: Fred Savage\, Robin Wright\, Mandy Patinkin\, Billy Crystal\, and other Hollywood favorites comprise the excellent ensemble cast. Share this with your children as it was meant to be seen &ndash\; on the big screen!&nbsp\;
LOCATION:Harbison Theatre at Midlands Technical College 7300 College Street\, Irmo\, SC 29063
UID:e.1333.2790
SEQUENCE:3
DTSTAMP:20260423T230247Z
URL:https://business.greaterirmochamber.com/events/details/new-classic-cinema-the-princess-bride-2790
END:VEVENT

END:VCALENDAR
