BEGIN:VCALENDAR
VERSION:2.0
PRODID:-//ChamberMaster//Event Calendar 2.0//EN
METHOD:PUBLISH
X-PUBLISHED-TTL:P3D
REFRESH-INTERVAL:P3D
CALSCALE:GREGORIAN
BEGIN:VEVENT
DTSTART:20170304T180000Z
DTEND:20170304T210000Z
X-MICROSOFT-CDO-ALLDAYEVENT:FALSE
SUMMARY:Newberry Opera House Guild's 2nd Annual A-Fair to Remember
DESCRIPTION:The Newberry Opera House Guild's 2nd Annual A-Fair to Remember will be held on Saturday March 4\, 2017\, from 1 p.m. to 4 p.m. This year's theme is an Old Tyme Ice Cream Social\, so in addition to a wide selection of vendors and interesting presenters\, those who attend will be able to feast on ice cream sundaes of all kinds and other treats. There will also be an old-fashioned cake and pie auction. The A-Fair will be held at Newberry Academy on 2055 Smith Road in Newberry. Tickets are $10 for adults and $5 for students of all ages and are now on sale at the Newberry Opera House box office\, or online at newberryoperahouse.com or https://squareup.com/store/ newberry-opera-house-guild- online/. So come on out and shop\, get informed and scream\, scream for ice cream.
X-ALT-DESC;FMTTYPE=text/html:The Newberry Opera House Guild&#39\;s 2nd Annual A-Fair to Remember will be held on Saturday March 4\, 2017\, from 1 p.m. to 4 p.m. This year&rsquo\;s theme is an Old Tyme Ice Cream Social\, so in addition to a wide selection of vendors and interesting presenters\, those who attend will be able to feast on ice cream sundaes of all kinds and other treats. There will also be an old-fashioned cake and pie auction. The A-Fair will be held at Newberry Academy on 2055 Smith Road in Newberry. Tickets are $10 for adults and $5 for students of all ages and are now on sale at the Newberry Opera House box office\, or online at newberryoperahouse.com or https://squareup.com/store/ newberry-opera-house-guild- online/. So come on out and shop\, get informed and scream\, scream for ice cream.
LOCATION:Newberry Academy\, 2055 Smith Road\, Newberry\, SC 29108
UID:e.1333.2509
SEQUENCE:3
DTSTAMP:20260424T171716Z
URL:https://business.greaterirmochamber.com/events/details/newberry-opera-house-guild-s-2nd-annual-a-fair-to-remember-2509
END:VEVENT

END:VCALENDAR
