BEGIN:VCALENDAR
VERSION:2.0
PRODID:-//ChamberMaster//Event Calendar 2.0//EN
METHOD:PUBLISH
X-PUBLISHED-TTL:P3D
REFRESH-INTERVAL:P3D
CALSCALE:GREGORIAN
BEGIN:VEVENT
DTSTART:20161109T163000Z
DTEND:20161109T180000Z
X-MICROSOFT-CDO-ALLDAYEVENT:FALSE
SUMMARY:November 2016 Monthly Chamber Luncheon
DESCRIPTION:Join us for our November Chamber Luncheon!  Our speaker will be Lexington County Administrator Joe Mergo.  Many thanks to GrandSouth Bank for sponsoring the luncheon and Moe's for catering.
X-ALT-DESC;FMTTYPE=text/html:Join us for our November Chamber Luncheon! &nbsp\;Our speaker will be Lexington County Administrator Joe Mergo. &nbsp\;Many thanks to GrandSouth Bank for sponsoring the luncheon and Moe&#39\;s for catering.
LOCATION:St. Andrews Presbyterian Church 6952 St. Andrews Rd. Columbia\, SC 29212
UID:e.1333.2495
SEQUENCE:3
DTSTAMP:20260424T230128Z
URL:https://business.greaterirmochamber.com/events/details/november-2016-monthly-chamber-luncheon-2495
END:VEVENT

END:VCALENDAR
