BEGIN:VCALENDAR
VERSION:2.0
PRODID:-//ChamberMaster//Event Calendar 2.0//EN
METHOD:PUBLISH
X-PUBLISHED-TTL:P3D
REFRESH-INTERVAL:P3D
CALSCALE:GREGORIAN
BEGIN:VEVENT
DTSTART:20171102T113000Z
DTEND:20171102T123000Z
X-MICROSOFT-CDO-ALLDAYEVENT:FALSE
SUMMARY:November 2017 Chamber Breakfast
DESCRIPTION:Please join us for a great morning of networking and fellowship!  The November Chamber Breakfast will be sponsored by one of Marketing level partners\, Digital Hearing Outlet!
X-ALT-DESC;FMTTYPE=text/html:Please join us for a great morning of networking and fellowship! &nbsp\;The November Chamber Breakfast will be sponsored by one of Marketing level partners\, <strong>Digital Hearing Outlet</strong>!
LOCATION:Greater Irmo Chamber of Commerce 1235 Columbia Ave. Irmo\, SC 29063
UID:e.1333.2918
SEQUENCE:3
DTSTAMP:20260424T051850Z
URL:https://business.greaterirmochamber.com/events/details/november-2017-chamber-breakfast-2918
END:VEVENT

END:VCALENDAR
