BEGIN:VCALENDAR
VERSION:2.0
PRODID:-//ChamberMaster//Event Calendar 2.0//EN
METHOD:PUBLISH
X-PUBLISHED-TTL:P3D
REFRESH-INTERVAL:P3D
CALSCALE:GREGORIAN
BEGIN:VEVENT
DTSTART:20171108T163000Z
DTEND:20171108T180000Z
X-MICROSOFT-CDO-ALLDAYEVENT:FALSE
SUMMARY:November 2017 Chamber Luncheon
DESCRIPTION:Please join us for our November Chamber Luncheon on Wednesday\, November 8\, 2017 from 11:30am-1pm at St. Andrews Presbyterian Church.  This month we will welcome Bill Sims Jr.\, author of Green Beans and Ice Cream: The Remarkable Power of Positive Reinforcement. \n\nBill's book analyzes over 100 years of research in the field of human behavioral science\, and compares it to "real world\, in the trenches" true stories that he recounts during his talks.\n\n\n\nMoe's will serve our lunch and a very special thanks to Security Federal Bank for sponsoring this event.
X-ALT-DESC;FMTTYPE=text/html:<span style="font-family:arial\;">Please join us for our <strong>November Chamber Luncheon</strong> on <strong>Wednesday\, November 8\, 2017</strong> from <strong>11:30am-1pm</strong> at <strong>St. Andrews Presbyterian Church</strong>. &nbsp\;This month we will welcome <strong>Bill Sims Jr.\, </strong>author of <strong>Green Beans and Ice Cream: <em>The Remarkable Power of Positive Reinforcement</em></strong>.&nbsp\;<br />\nBill&#39\;s book analyzes over 100 years of research in the field of human behavioral science\, and compares it to &ldquo\;real world\, in the trenches&rdquo\; true stories that he recounts during his talks.<br />\n<br />\n<b>Moe&#39\;s</b> will serve our lunch and a very special thanks to <strong>Security Federal Bank</strong> for sponsoring this event.</span>
LOCATION:St. Andrews Presbyterian Church 6952 St. Andrews Rd. Columbia\, SC 29212
UID:e.1333.2922
SEQUENCE:3
DTSTAMP:20260424T052642Z
URL:https://business.greaterirmochamber.com/events/details/november-2017-chamber-luncheon-2922
END:VEVENT

END:VCALENDAR
