BEGIN:VCALENDAR
VERSION:2.0
PRODID:-//ChamberMaster//Event Calendar 2.0//EN
METHOD:PUBLISH
X-PUBLISHED-TTL:P3D
REFRESH-INTERVAL:P3D
CALSCALE:GREGORIAN
BEGIN:VEVENT
DTSTART:20181127T220000Z
DTEND:20181128T000000Z
X-MICROSOFT-CDO-ALLDAYEVENT:FALSE
SUMMARY:November 2018 Business After Hours
DESCRIPTION:Join us at Aloft Columbia-Harbison for our November Business After Hours.  We'll have plenty of drink specials and complimentary appetizers in the WXYZ bar for everyone to enjoy some after work networking!  Bring your business cards!
X-ALT-DESC;FMTTYPE=text/html:Join us at <strong>Aloft Columbia-Harbison</strong> for our <strong>November Business After Hours</strong>. &nbsp\;We&#39\;ll have plenty of drink specials and complimentary appetizers in the WXYZ bar for everyone to enjoy some after work networking! &nbsp\;Bring your business cards!
LOCATION:Aloft Columbia-Harbison 217 Lanneau Court Columbia\, SC 29212 (just off Columbiana Dr.)
UID:e.1333.3283
SEQUENCE:3
DTSTAMP:20260423T104052Z
URL:https://business.greaterirmochamber.com/events/details/november-2018-business-after-hours-3283
END:VEVENT

END:VCALENDAR
