BEGIN:VCALENDAR
VERSION:2.0
PRODID:-//ChamberMaster//Event Calendar 2.0//EN
METHOD:PUBLISH
X-PUBLISHED-TTL:P3D
REFRESH-INTERVAL:P3D
CALSCALE:GREGORIAN
BEGIN:VEVENT
DTSTART:20181101T120000Z
DTEND:20181101T130000Z
X-MICROSOFT-CDO-ALLDAYEVENT:FALSE
SUMMARY:November 2018 Chamber Breakfast
DESCRIPTION:Please join us for a fun morning of networking\, fellowship and delicious food. Caroline Ward with Madison Insurance Group will provide a brief overview of the essential insurance coverage that a business of any size needs. From small start-ups to major corporations\, Madison Insurance Group can provide customized insurance coverage\, tailored to meet specific needs. Tim's Catering will provide a full breakfast. Seating is limited so please register on our website!
X-ALT-DESC;FMTTYPE=text/html:<span style="font-family:verdana\;"><span style="font-size:14px\;"><span style="caret-color: rgb(29\, 33\, 41)\; color: rgb(29\, 33\, 41)\; white-space: pre-wrap\;">Please join us for a fun morning of networking\, fellowship and delicious food. </span><span style="caret-color: rgb(0\, 0\, 0)\; color: rgb(0\, 0\, 0)\;">Caroline Ward with Madison Insurance Group will provide a brief overview of the essential insurance coverage that a business of any size needs. From small start-ups to major corporations\, Madison Insurance Group can provide customized insurance coverage\, tailored to meet specific needs.</span><span style="caret-color: rgb(29\, 33\, 41)\; color: rgb(29\, 33\, 41)\; white-space: pre-wrap\;"> Tim&#39\;s Catering will provide a full breakfast. Seating is limited so please register on our website!</span></span></span>
LOCATION:Greater Irmo Chamber 1235 Columbia Ave. Irmo\, SC 29063
UID:e.1333.3278
SEQUENCE:3
DTSTAMP:20260423T102942Z
URL:https://business.greaterirmochamber.com/events/details/november-2018-chamber-breakfast-3278
END:VEVENT

END:VCALENDAR
