BEGIN:VCALENDAR
VERSION:2.0
PRODID:-//ChamberMaster//Event Calendar 2.0//EN
METHOD:PUBLISH
X-PUBLISHED-TTL:P3D
REFRESH-INTERVAL:P3D
CALSCALE:GREGORIAN
BEGIN:VEVENT
DTSTART:20181114T163000Z
DTEND:20181114T180000Z
X-MICROSOFT-CDO-ALLDAYEVENT:FALSE
SUMMARY:November 2018 Chamber Luncheon
DESCRIPTION:Please join us for our November Chamber Luncheon on Wednesday\, November 14\, 2018 from 11:30am-1pm at St. Andrews Presbyterian Church.  This month\, we will welcome Dr. Michele Reid\, a Holistic Health and Wellness Coach with Get Well With Michele.  Dr. Reid will be rolling out the information for GUTBUSTERS 2019\, a health and wellness challenge we will be doing here at the Chamber from January -May 2019.  Everyone knows we are the #funchamber and our goal for 2019 is to be the #healthychamber\, too!  Here's a hint:  there will be CASH Prizes up for grabs at the end of this challenge so you don't want to miss out!  Special thanks to our partners at Dunbar and Caughman-Harman Funeral Homes for sponsoring this event!
X-ALT-DESC;FMTTYPE=text/html:<span style="font-family: arial\;">Please join us for our <strong>November</strong></span><strong style="font-family: arial\;">&nbsp\;Chamber Luncheon</strong><span style="font-family: arial\;">&nbsp\;on&nbsp\;</span><strong style="font-family: arial\;">Wednesday\, November 14\, 2018</strong><span style="font-family: arial\;">&nbsp\;from&nbsp\;</span><strong style="font-family: arial\;">11:30am-1pm</strong><span style="font-family: arial\;">&nbsp\;at&nbsp\;</span><strong style="font-family: arial\;">St. Andrews Presbyterian Church</strong><span style="font-family: arial\;">. &nbsp\;This month\, we will welcome</span><font face="arial">&nbsp\;<strong>Dr.</strong>&nbsp\;<b>Michele Reid\, a Holistic Health and Wellness Coach with Get Well With Michele</b>. &nbsp\;Dr. Reid will be rolling out the information for&nbsp\;<strong>GUTBUSTERS 2019</strong>\, a health and wellness challenge we will be doing here at the Chamber from January -May 2019. &nbsp\;Everyone knows we are the <strong>#funchamber</strong> and our goal for 2019 is to be the <strong>#healthychamber</strong>\, too!&nbsp\; Here&#39\;s a hint: &nbsp\;there will be <strong>CASH</strong> Prizes up for grabs at the end of this challenge so you don&#39\;t want to miss out! &nbsp\;Special thanks to our partners at&nbsp\;<strong>Dunbar and Caughman-Harman Funeral Homes&nbsp\;</strong>for sponsoring this event!</font>
LOCATION:St. Andrews Presbyterian Church 6952 St. Andrews Rd. Columbia\, SC 29212
UID:e.1333.3279
SEQUENCE:3
DTSTAMP:20260423T114912Z
URL:https://business.greaterirmochamber.com/events/details/november-2018-chamber-luncheon-3279
END:VEVENT

END:VCALENDAR
