BEGIN:VCALENDAR
VERSION:2.0
PRODID:-//ChamberMaster//Event Calendar 2.0//EN
METHOD:PUBLISH
X-PUBLISHED-TTL:P3D
REFRESH-INTERVAL:P3D
CALSCALE:GREGORIAN
BEGIN:VEVENT
DTSTART:20191113T163000Z
DTEND:20191113T180000Z
X-MICROSOFT-CDO-ALLDAYEVENT:FALSE
SUMMARY:November 2019 Chamber Luncheon
DESCRIPTION:Please join us for our November Chamber Luncheon on Wednesday\, November 13\, 2019 from 11:30am-1pm at St. Andrews Presbyterian Church.   This month\, we will welcome Steve Ware with Rivers Edge Retreat.   A big thank you to our partners at Steve Padgett's Honda of Lake Murray for sponsoring this event and we'll enjoy a delicious meal from Willie Jewell's Old School BBQ!
X-ALT-DESC;FMTTYPE=text/html:<span style="font-family: arial\;">Please join us for our <strong>November</strong></span><strong style="font-family: arial\;">&nbsp\;Chamber Luncheon</strong><span style="font-family: arial\;">&nbsp\;on&nbsp\;</span><strong style="font-family: arial\;">Wednesday\, November 13\, 2019</strong><span style="font-family: arial\;">&nbsp\;from&nbsp\;</span><strong style="font-family: arial\;">11:30am-1pm</strong><span style="font-family: arial\;">&nbsp\;at&nbsp\;</span><strong style="font-family: arial\;">St. Andrews Presbyterian Church</strong><span style="font-family: arial\;">. &nbsp\;</span><font face="arial">&nbsp\;This month\, we will welcome <strong>Steve Ware with Rivers Edge Retreat</strong><b>.</b>&nbsp\; &nbsp\;A big thank you to our partners at <strong>Steve Padgett&#39\;s Honda of Lake Murray&nbsp\;</strong>for sponsoring this event and we&#39\;ll enjoy a delicious meal from <strong>Willie Jewell&#39\;s Old School BBQ</strong>!</font>
LOCATION:St. Andrews Presbyterian Church 6952 St. Andrews Rd. Columbia\, SC 29212
UID:e.1333.3386
SEQUENCE:3
DTSTAMP:20260422T160913Z
URL:https://business.greaterirmochamber.com/events/details/november-2019-chamber-luncheon-3386
END:VEVENT

END:VCALENDAR
