BEGIN:VCALENDAR
VERSION:2.0
PRODID:-//ChamberMaster//Event Calendar 2.0//EN
METHOD:PUBLISH
X-PUBLISHED-TTL:P3D
REFRESH-INTERVAL:P3D
CALSCALE:GREGORIAN
BEGIN:VEVENT
DTSTART:20231108T163000Z
DTEND:20231108T180000Z
X-MICROSOFT-CDO-ALLDAYEVENT:FALSE
SUMMARY:November 2023 Chamber Luncheon
DESCRIPTION:Please join us for our November Chamber Luncheon on Wednesday\, November 8\, 2023 from 11:30am-1pm at St. Andrews Presbyterian Church.  This month we will welcome Alex Bowers with Future Fuels for a discussion on electric vehicles.  Thank you to Wonderly Lights of SC Midlands for sponsoring our luncheon and to Dupre Catering & Events for providing lunch!!\n\n\n\nTickets are $10 in advance or $15 at the door.   If you are an Influencer\, Leadership or Champion Partner\, Law Enforcement\, First Responder OR a Lunch Card Holder\, please email Kerry to reserve your lunch. (ceo@greaterirmochamber.com) \n\n\n\nAudio visual and digital presence is provided by Cut Throat Marketing.
X-ALT-DESC;FMTTYPE=text/html:<p><span style="font-size:18px\;"><span style="font-family:verdana\;"><span style="color: rgb(51\, 51\, 51)\;">Please join us for our&nbsp\;</span><strong style="font-size: 18px\;"><span style="color:#333333\;">November Chamber Luncheon</span></strong><span style="color: rgb(51\, 51\, 51)\;">&nbsp\;on&nbsp\;</span><strong style="font-size: 18px\;"><span style="color:#333333\;">Wednesday\, November 8\, 2023</span></strong><span style="color: rgb(51\, 51\, 51)\;">&nbsp\;from&nbsp\;</span><strong style="font-size: 18px\;"><span style="color:#333333\;">11:30am-1pm</span></strong><span style="color: rgb(51\, 51\, 51)\;">&nbsp\;at&nbsp\;</span><strong style="font-size: 18px\;"><span style="color:#333333\;">St. Andrews Presbyterian Church. </span></strong>&nbsp\;This month we will welcome <strong>Alex Bowers with Future Fuels</strong> for a discussion on electric&nbsp\;vehicles. &nbsp\;Thank you to&nbsp\;<strong>Wonderly Lights of SC Midlands</strong></span></span><span style="font-size:18px\;"><span style="font-family:verdana\;"><strong style="font-size: 14pt\; color: rgb(51\, 51\, 51)\; font-family: verdana\, sans-serif\;">&nbsp\;</strong><font style="font-size: 18px\;">for&nbsp\;sponsoring our luncheon and to&nbsp\;<strong>Dupre Catering &amp\; Events&nbsp\;</strong>for providing lunch!!</font><br />\n<br />\n<strong>Tickets are $10&nbsp\;in advance or $15 at the door.&nbsp\;</strong>&nbsp\;&nbsp\;<strong>If you are an Influencer\, Leadership&nbsp\;or Champion Partner\, Law Enforcement\,&nbsp\;First Responder OR a Lunch Card Holder\, please email Kerry to reserve your lunch.&nbsp\;</strong>(<a href="mailto:ceo@greaterirmochamber.com">ceo@greaterirmochamber.com</a>)&nbsp\;<br />\n<br />\nAudio visual and digital presence&nbsp\;is provided by&nbsp\;<strong>Cut Throat Marketing.</strong></span></span><br />\n&nbsp\;</p>\n
LOCATION:
UID:e.1333.5063
SEQUENCE:3
DTSTAMP:20260421T132659Z
URL:https://business.greaterirmochamber.com/events/details/november-2023-chamber-luncheon-5063
END:VEVENT

END:VCALENDAR
