BEGIN:VCALENDAR
VERSION:2.0
PRODID:-//ChamberMaster//Event Calendar 2.0//EN
METHOD:PUBLISH
X-PUBLISHED-TTL:P3D
REFRESH-INTERVAL:P3D
CALSCALE:GREGORIAN
BEGIN:VEVENT
DTSTART:20251112T163000Z
DTEND:20251112T180000Z
X-MICROSOFT-CDO-ALLDAYEVENT:FALSE
SUMMARY:November 2025 Partner Luncheon
DESCRIPTION:Please join us for our November Partner Luncheon on Wednesday\, November 12\, 2025 from 11:30am-1pm at St. Andrews Presbyterian Church.  This month\, we are pleased to welcome JR Fennell\, Executive Director of the Lexington County Museum\, to discuss the history of Irmo\, Lexington County and the Dutch Fork.\n\n\n\nThank you to Holiday Lighting by Wonderly Lights  for presenting this event! Panera Bread will be serving our lunch!\n\n\n\nTickets are $15 in advance or $20 at the door.   If you are an Influencer partner and above\, Law Enforcement\, First Responder OR a Lunch Card Holder\, please email Ginger to reserve your lunch.(events@greaterirmochamber.com) \n\n\n\nAudio visual and digital presence is provided by Cut Throat Marketing.
X-ALT-DESC;FMTTYPE=text/html:<span style="font-size:18px\;"><span style="font-family:verdana\;"><span style="color: rgb(51\, 51\, 51)\;">Please join us for our&nbsp\;</span><strong style="font-family: verdana\; font-size: 18px\;"><span style="color:#333333\;">November Partner Luncheon</span></strong><span style="color: rgb(51\, 51\, 51)\;">&nbsp\;on&nbsp\;</span><strong style="font-family: verdana\; font-size: 18px\;"><span style="color:#333333\;">Wednesday\, November 12\, 2025</span></strong><span style="color: rgb(51\, 51\, 51)\;">&nbsp\;from&nbsp\;</span><strong style="font-family: verdana\; font-size: 18px\;"><span style="color:#333333\;">11:30am-1pm</span></strong>&nbsp\;at&nbsp\;<b style="color: rgb(51\, 51\, 51)\; font-family: verdana\; font-size: 18px\;">St. Andrews Presbyterian Church. &nbsp\;</b></span></span><span style="font-family:verdana\,sans-serif\;"><span style="font-size:14pt\;">This month\, we are pleased to welcome <strong>JR Fennell\, Executive Director of the Lexington County Museum\,</strong> to discuss the history of Irmo\, Lexington County and the Dutch Fork.</span></span><br />\n<br />\n<span style="font-size:18px\;"><span style="font-family:verdana\;">Thank you to <strong style="font-family: verdana\, sans-serif\; font-size: 14pt\; color: rgb(51\, 51\, 51)\;">Holiday Lighting by Wonderly Lights&nbsp\;</strong>&#8203\;for presenting this event! <strong style="font-family: verdana\; font-size: 18px\;">Panera Bread&nbsp\;</strong>will be serving our lunch!<br />\n<br />\n<strong style="font-family: verdana\; font-size: 18px\;">Tickets are $15 in advance or $20 at the door.&nbsp\;</strong>&nbsp\;&nbsp\;<strong style="font-family: verdana\; font-size: 18px\;">If you are an Influencer partner and above\, Law Enforcement\,&nbsp\;First Responder OR a Lunch Card Holder\, please email Ginger to reserve your lunch.</strong>(<a href="mailto:ceo@greaterirmochamber.com" style="font-family: verdana\; font-size: 18px\;">e</a><a href="mailto:events@greaterirmochamber.com" style="font-family: verdana\; font-size: 18px\;">vents@greaterirmochamber.com</a>)&nbsp\;<br />\n<br />\nAudio visual and digital presence&nbsp\;is provided by&nbsp\;<strong style="font-family: verdana\; font-size: 18px\;">Cut Throat Marketing.</strong></span></span><br />\n<br />\n&nbsp\;
LOCATION:St. Andrews Presbyterian Church 6952 St. Andrews Rd. (across from Murraywood Center)
UID:e.1333.6235
SEQUENCE:3
DTSTAMP:20260423T010949Z
URL:https://business.greaterirmochamber.com/events/details/november-2025-partner-luncheon-6235
END:VEVENT

END:VCALENDAR
