BEGIN:VCALENDAR
VERSION:2.0
PRODID:-//ChamberMaster//Event Calendar 2.0//EN
METHOD:PUBLISH
X-PUBLISHED-TTL:P3D
REFRESH-INTERVAL:P3D
CALSCALE:GREGORIAN
BEGIN:VEVENT
DTSTART:20171108T000000Z
DTEND:20171108T030000Z
X-MICROSOFT-CDO-ALLDAYEVENT:FALSE
SUMMARY:NTL On Screen: No Man's Land
DESCRIPTION:Sir Ian McKellen and Sir Patrick Stewart star in this Harold Pinter classic. On a hot summer evening\, two aging writers share stories over drinks   a conversation that evolves into a revealing power game.
X-ALT-DESC;FMTTYPE=text/html:Sir Ian McKellen and Sir Patrick Stewart star in this Harold Pinter classic. On a hot summer evening\, two aging writers share stories over drinks &ndash\; a conversation that evolves into a revealing power game.
LOCATION:Harbison Theatre at Midlands Technical College - 7300 College Street\, Irmo\, SC 29063
UID:e.1333.2782
SEQUENCE:3
DTSTAMP:20260424T064947Z
URL:https://business.greaterirmochamber.com/events/details/ntl-on-screen-no-man-s-land-2782
END:VEVENT

END:VCALENDAR
