BEGIN:VCALENDAR
VERSION:2.0
PRODID:-//ChamberMaster//Event Calendar 2.0//EN
METHOD:PUBLISH
X-PUBLISHED-TTL:P3D
REFRESH-INTERVAL:P3D
CALSCALE:GREGORIAN
BEGIN:VEVENT
DTSTART:20180320T230000Z
DTEND:20180321T020000Z
X-MICROSOFT-CDO-ALLDAYEVENT:FALSE
SUMMARY:NTL On Screen: Rosencrantz & Guildenstern Are Dead
DESCRIPTION:Against the backdrop of Hamlet\, two hapless minor characters\, Rosencrantz (Daniel Radcliffe) and Guildenstern (Joshua McGuire)\, take center stage. As the young troublemakers stumble their way in-and-out of the action of Shakespeare's iconic drama\, they become increasingly out of their depth as their version of the story unfolds.
X-ALT-DESC;FMTTYPE=text/html:Against the backdrop of Hamlet\, two hapless minor characters\, Rosencrantz (Daniel Radcliffe) and Guildenstern (Joshua McGuire)\, take center stage. As the young troublemakers stumble their way in-and-out of the action of Shakespeare&rsquo\;s iconic drama\, they become increasingly out of their depth as their version of the story unfolds.
LOCATION:Harbison Theatre at Midlands Technical College 7300 College Street\, Irmo\, SC 29063
UID:e.1333.2792
SEQUENCE:3
DTSTAMP:20260423T230119Z
URL:https://business.greaterirmochamber.com/events/details/ntl-on-screen-rosencrantz-guildenstern-are-dead-2792
END:VEVENT

END:VCALENDAR
