BEGIN:VCALENDAR
VERSION:2.0
PRODID:-//ChamberMaster//Event Calendar 2.0//EN
METHOD:PUBLISH
X-PUBLISHED-TTL:P3D
REFRESH-INTERVAL:P3D
CALSCALE:GREGORIAN
BEGIN:VEVENT
DTSTART:20161012T153000Z
DTEND:20161012T170000Z
X-MICROSOFT-CDO-ALLDAYEVENT:FALSE
SUMMARY:October 2016 Chamber Luncheon
DESCRIPTION:Join us for our October Luncheon sponsored by Palmetto Health.  Travinia Italian Kitchen will provide a delicious meal and Palmetto Health will talk to us about Breast Cancer Awareness Month and the Walk for Life.
X-ALT-DESC;FMTTYPE=text/html:<span style="font-size:18px\;"><span style="line-height: 20.7999992370605px\;">Join us for our October Luncheon sponsored by Palmetto Health. &nbsp\;Travinia Italian Kitchen will provide a delicious meal and Palmetto Health&nbsp\;will talk to us about Breast Cancer Awareness Month and the Walk for Life.&nbsp\;</span></span><br />\n<br />\n&nbsp\;
LOCATION:Saint Andrews Presbyterian Church 6952 Saint Andrews Road Columbia\, SC 29212
UID:e.1333.2486
SEQUENCE:3
DTSTAMP:20260425T014748Z
URL:https://business.greaterirmochamber.com/events/details/october-2016-chamber-luncheon-2486
END:VEVENT

END:VCALENDAR
