BEGIN:VCALENDAR
VERSION:2.0
PRODID:-//ChamberMaster//Event Calendar 2.0//EN
METHOD:PUBLISH
X-PUBLISHED-TTL:P3D
REFRESH-INTERVAL:P3D
CALSCALE:GREGORIAN
BEGIN:VEVENT
DTSTART:20171005T113000Z
DTEND:20171005T123000Z
X-MICROSOFT-CDO-ALLDAYEVENT:FALSE
SUMMARY:October 2017 Chamber Breakfast
DESCRIPTION:Please join us for a great morning of networking and fellowship!  The October Chamber Breakfast will be sponsored by one of our long time community partners\, Midlands Technical College!
X-ALT-DESC;FMTTYPE=text/html:Please join us for a great morning of networking and fellowship! &nbsp\;The October Chamber Breakfast will be sponsored by one of our long time community partners\, <strong>Midlands Technical College</strong>!
LOCATION:Greater Irmo Chamber of Commerce 1235 Columbia Ave. Irmo\, SC 29063
UID:e.1333.2905
SEQUENCE:3
DTSTAMP:20260424T064633Z
URL:https://business.greaterirmochamber.com/events/details/october-2017-chamber-breakfast-2905
END:VEVENT

END:VCALENDAR
