BEGIN:VCALENDAR
VERSION:2.0
PRODID:-//ChamberMaster//Event Calendar 2.0//EN
METHOD:PUBLISH
X-PUBLISHED-TTL:P3D
REFRESH-INTERVAL:P3D
CALSCALE:GREGORIAN
BEGIN:VEVENT
DTSTART:20171011T153000Z
DTEND:20171011T170000Z
X-MICROSOFT-CDO-ALLDAYEVENT:FALSE
SUMMARY:October 2017 Chamber Luncheon
DESCRIPTION:Please join us for our October Chamber Luncheon on Wednesday\, October 11\, 2017 from 11:30am-1pm at St. Andrews Presbyterian Church.  This month we will welcome Major JJ Jones from the Lexington County Sheriff's Department and he'll discuss crime prevention and statistics for the Irmo area and active shooter situations.  \n\n\n\nTravinia Italian Kitchen will serve our lunch and a very special thanks to Blue Cross Blue Shield of SC and E-Sources for sponsoring this event.
X-ALT-DESC;FMTTYPE=text/html:Please join us for our <strong>October Chamber Luncheon</strong> on <strong>Wednesday\, October 11\, 2017</strong> from 1<strong>1:30am-1pm</strong> at <strong>St. Andrews Presbyterian Church</strong>. &nbsp\;This month we will welcome <strong>Major JJ Jones</strong> from the <strong>Lexington County Sheriff&#39\;s Department </strong>and he&#39\;ll discuss crime prevention and statistics for the Irmo area and active shooter situations. &nbsp\;<br />\n<br />\n<strong>Travinia Italian Kitchen</strong> will serve our lunch and a very special thanks to <strong>Blue Cross Blue Shield of SC and E-Sources</strong> for sponsoring this event.
LOCATION:St. Andrews Presbyterian Church 6952 St. Andrews Rd. Columbia\, SC 29212
UID:e.1333.2914
SEQUENCE:3
DTSTAMP:20260424T064648Z
URL:https://business.greaterirmochamber.com/events/details/october-2017-chamber-luncheon-2914
END:VEVENT

END:VCALENDAR
