BEGIN:VCALENDAR
VERSION:2.0
PRODID:-//ChamberMaster//Event Calendar 2.0//EN
METHOD:PUBLISH
X-PUBLISHED-TTL:P3D
REFRESH-INTERVAL:P3D
CALSCALE:GREGORIAN
BEGIN:VEVENT
DTSTART:20181004T120000Z
DTEND:20181004T130000Z
X-MICROSOFT-CDO-ALLDAYEVENT:FALSE
SUMMARY:October 2018 Chamber Breakfast
DESCRIPTION:Please join us for a fun morning of networking\, fellowship\, delicious food and cyber security information. Special thanks to Cut Throat Marketing for sponsoring this event for Cyber Security Month! Tim's Catering will provide a full breakfast. Seating is limited so please register on our website!
X-ALT-DESC;FMTTYPE=text/html:<span style="caret-color: rgb(29\, 33\, 41)\; color: rgb(29\, 33\, 41)\; font-family: system-ui\, -apple-system\, BlinkMacSystemFont\, &quot\;.SFNSText-Regular&quot\;\, sans-serif\; font-size: 12px\; white-space: pre-wrap\;">Please join us for a fun morning of networking\, fellowship\, delicious food and cyber security information. Special thanks to <strong>Cut Throat Marketing</strong> for sponsoring this event for Cyber Security Month! Tim&#39\;s Catering will provide a full breakfast. Seating is limited so please register on our website!</span>
LOCATION:Greater Irmo Chamber 1235 Columbia Ave. Irmo\, SC 29063
UID:e.1333.3267
SEQUENCE:3
DTSTAMP:20260423T115449Z
URL:https://business.greaterirmochamber.com/events/details/october-2018-chamber-breakfast-3267
END:VEVENT

END:VCALENDAR
