BEGIN:VCALENDAR
VERSION:2.0
PRODID:-//ChamberMaster//Event Calendar 2.0//EN
METHOD:PUBLISH
X-PUBLISHED-TTL:P3D
REFRESH-INTERVAL:P3D
CALSCALE:GREGORIAN
BEGIN:VEVENT
DTSTART:20181010T153000Z
DTEND:20181010T170000Z
X-MICROSOFT-CDO-ALLDAYEVENT:FALSE
SUMMARY:October 2018 Chamber Luncheon
DESCRIPTION:Please join us for our October Chamber Luncheon on Wednesday\, October 10\, 2018 from 11:30am-1pm at St. Andrews Presbyterian Church.  This month\, we will welcome Former Miss South Carolina Sherry Bradshaw.  Special thanks to our partners at SAFE Federal Credit Union for sponsoring this event.   Moe's will provide our lunch!
X-ALT-DESC;FMTTYPE=text/html:<span style="font-family: arial\;">Please join us for our <strong>October</strong></span><strong style="font-family: arial\;">&nbsp\;Chamber Luncheon</strong><span style="font-family: arial\;">&nbsp\;on&nbsp\;</span><strong style="font-family: arial\;">Wednesday\, October 10\, 2018</strong><span style="font-family: arial\;">&nbsp\;from&nbsp\;</span><strong style="font-family: arial\;">11:30am-1pm</strong><span style="font-family: arial\;">&nbsp\;at&nbsp\;</span><strong style="font-family: arial\;">St. Andrews Presbyterian Church</strong><span style="font-family: arial\;">. &nbsp\;This month\, we will welcome</span><font face="arial">&nbsp\;<b>Former Miss South Carolina Sherry Bradshaw</b>.&nbsp\; Special thanks to our partners at&nbsp\;<strong>SAFE Federal Credit Union</strong> for sponsoring this event. &nbsp\; Moe&#39\;s will provide our lunch!</font>
LOCATION:St. Andrews Presbyterian Church 6952 St. Andrews Rd. Columbia\, SC 29212
UID:e.1333.3268
SEQUENCE:3
DTSTAMP:20260423T114725Z
URL:https://business.greaterirmochamber.com/events/details/october-2018-chamber-luncheon-3268
END:VEVENT

END:VCALENDAR
