BEGIN:VCALENDAR
VERSION:2.0
PRODID:-//ChamberMaster//Event Calendar 2.0//EN
METHOD:PUBLISH
X-PUBLISHED-TTL:P3D
REFRESH-INTERVAL:P3D
CALSCALE:GREGORIAN
BEGIN:VEVENT
DTSTART:20201014T153000Z
DTEND:20201014T170000Z
X-MICROSOFT-CDO-ALLDAYEVENT:FALSE
SUMMARY:October 2020 Chamber Luncheon
DESCRIPTION:Please join us for our October Chamber Luncheon on Wednesday\, October 14\, 2020 from 11:30am-1pm at St. Andrews Presbyterian Church.  This month\, we will welcome Adam Roberson with the Drug Enforcement Administration to address the channeling of prescription drugs from legal to illegal markets\, heroin and fentanyl trafficking/abuse and proactive steps communities can take to address this local and national epidemic.  His presentation will also summarize a case to give attendees an idea of how these investigations are conducted which will include undercover videos of health care professionals writing illegal prescriptions and video of a pain clinic (pill mill). THANK YOU to Dr. Matt and Dr. Amanda at Midlands Family Chiropractic for presenting this event and we're excited to have one of our newest partners\, Griffin Chophouse\, cater our lunch!\n\n\n\nPLEASE NOTE:  We have a limited number of tickets available for this event so that we can maintain social distancing guidelines inside the fellowship hall.  Masks are required for entry into the event and will be required at all times except when eating or drinking.  Additionally\, Oxi-Thyme Sanitation Service\, one of our newest Marketing partners\, will sanitize and disinfect the room prior to the event using EPA registered Hydrogen Peroxide. \n\n\n\nTickets are $10 and all tickets to the event MUST be purchased in ADVANCE with a credit/debit card.  If you are a Marketing\, Emerald or Diamond Partner\, Law Enforcement or First Responder OR a Lunch Card Holder\, please email me to reserve your lunch. (ceo@greaterirmochamber.com) \n\n\n\nNo cash or walk ups will be accepted.\n\n\n\nWe apologize for the inconvenience and abundance of rules but we're just trying to be responsible while continuing to grow this amazing and supportive Irmo Business Community!!
X-ALT-DESC;FMTTYPE=text/html:<span style="font-family:verdana\;"><span style="font-size:16px\;">Please join us for our&nbsp\;<strong>October&nbsp\;Chamber Luncheon</strong>&nbsp\;on&nbsp\;<strong style="font-family: arial\; font-size: 16px\;">Wednesday\, October 14\, 2020</strong>&nbsp\;from&nbsp\;<strong style="font-family: arial\; font-size: 16px\;">11:30am-1pm</strong>&nbsp\;at&nbsp\;<strong style="font-family: arial\; font-size: 16px\;">St. Andrews Presbyterian Church</strong>. &nbsp\;This month\, we will welcome <strong style="font-family: verdana\; font-size: 16px\;">Adam Roberson </strong><strong style="font-family: verdana\; font-size: 16px\;">with the</strong><strong style="font-family: verdana\; font-size: 16px\;"> Drug Enforcement Administration</strong>&nbsp\;<span style="caret-color: rgb(0\, 0\, 0)\; color: rgb(0\, 0\, 0)\;">to address the channeling of prescription drugs from legal to illegal markets\, heroin and fentanyl trafficking/abuse and proactive steps communities can take to address this local and national epidemic. &nbsp\;His presentation will also summarize a case to give attendees an idea of how these investigations are conducted which will include undercover videos of health care professionals writing illegal prescriptions and video of a pain clinic (pill mill).</span> THANK YOU to Dr. Matt and Dr. Amanda at <strong style="font-family: verdana\; font-size: 16px\;">Midlands Family Chiropractic&nbsp\;</strong>for presenting this event and we&#39\;re excited to have one of our newest partners\, <strong>Griffin Chophouse</strong>\, cater our lunch!<br />\n<br />\n<strong style="font-family: verdana\; font-size: 16px\;">PLEASE NOTE: &nbsp\;We have a limited number of tickets available for this event so that we can maintain social distancing guidelines inside the fellowship hall.</strong>&nbsp\;&nbsp\;<strong style="font-family: verdana\; font-size: 16px\;">Masks are&nbsp\;required for entry</strong> into the event and will be required at all times except when eating or drinking.&nbsp\; Additionally\, <strong>Oxi-Thyme Sanitation Service</strong>\, one of our newest Marketing partners\, will sanitize and disinfect the room prior to the event using EPA registered Hydrogen Peroxide.&nbsp\;<br />\n<br />\n<strong style="font-family: verdana\; font-size: 16px\;">Tickets are $10 and all tickets to the event MUST be purchased in ADVANCE with a credit/debit card.</strong> &nbsp\;<em style="font-family: verdana\; font-size: 16px\;"><strong>If you are a Marketing\, Emerald or Diamond Partner\, Law Enforcement or First Responder OR a Lunch Card Holder\, please email me to reserve your lunch.&nbsp\;</strong></em>(<a href="mailto:ceo@greaterirmochamber.com" style="font-family: verdana\; font-size: 16px\;">ceo@greaterirmochamber.com</a>)&nbsp\;<br />\n<br />\n<strong style="font-family: verdana\; font-size: 16px\;">No cash or walk ups will be accepted</strong>.<br />\n<br />\n<strong style="font-family: verdana\; font-size: 16px\;">We apologize for the inconvenience and abundance of rules but we&#39\;re just trying to be responsible while continuing to grow this amazing and supportive Irmo Business Community!!</strong></span></span>
LOCATION:
UID:e.1333.3962
SEQUENCE:3
DTSTAMP:20260422T064416Z
URL:https://business.greaterirmochamber.com/events/details/october-2020-chamber-luncheon-3962
END:VEVENT

END:VCALENDAR
