BEGIN:VCALENDAR
VERSION:2.0
PRODID:-//ChamberMaster//Event Calendar 2.0//EN
METHOD:PUBLISH
X-PUBLISHED-TTL:P3D
REFRESH-INTERVAL:P3D
CALSCALE:GREGORIAN
BEGIN:VEVENT
DTSTART:20181030T213000Z
DTEND:20181031T010000Z
X-MICROSOFT-CDO-ALLDAYEVENT:FALSE
SUMMARY:October Chamber After Hours at Capital Kitchen & Bath!
DESCRIPTION:Join us at Capital Kitchen & Bath in Ballentine for a Masquerade Party and Open House. Enjoy food and beverages\, networking\, and take some time to tour the showroom! Costumes encouraged\, but not required. See you there!
X-ALT-DESC;FMTTYPE=text/html:Join us at Capital Kitchen &amp\; Bath in Ballentine for a Masquerade Party and Open House. Enjoy food and beverages\, networking\, and take some time to tour the showroom! Costumes encouraged\, but not required. See you there!
LOCATION:1720 Dutch Fork Rd\, Ste H Irmo\, SC 29063
UID:e.1333.3275
SEQUENCE:3
DTSTAMP:20260423T120449Z
URL:https://business.greaterirmochamber.com/events/details/october-chamber-after-hours-at-capital-kitchen-bath-3275
END:VEVENT

END:VCALENDAR
