BEGIN:VCALENDAR
VERSION:2.0
PRODID:-//ChamberMaster//Event Calendar 2.0//EN
METHOD:PUBLISH
X-PUBLISHED-TTL:P3D
REFRESH-INTERVAL:P3D
CALSCALE:GREGORIAN
BEGIN:VEVENT
DTSTART:20161017T113000Z
DTEND:20161017T130000Z
X-MICROSOFT-CDO-ALLDAYEVENT:FALSE
SUMMARY:October Chamber Breakfast-K2 Tech presents The 7 Deadly IT Sins
DESCRIPTION:The team at K2 Tech Group will present the October Chamber Breakfast and will include some valuable information and training on how to keep your business safe from the 7 Deadly IT Sins.  K2 Tech Group is teaming up with Sophos\, a world wide IT security expert\, to train you how to keep your business\, home and communities safe from:\n\n\n	Mobile Breaches\n	Unsecure WIFI\n	Faulty Firewalls\n	Bad Emails\n	Ransomware\n\nOctober is Cyber Security Awareness Month. K2 Tech Group is your local Champion for StaySafeOnline.org through a partnership with the Department of Homeland Security and the Greater Irmo Chamber of Commerce to help ensure our community internet networks are safe.
X-ALT-DESC;FMTTYPE=text/html:The team at <strong>K2 Tech Group </strong>will present the October Chamber Breakfast and will include some valuable information and training on how to keep your business safe from the <strong>7 Deadly IT Sins</strong>. &nbsp\;<strong>K2 Tech Group</strong> is teaming up with <strong>Sophos</strong>\, a world wide IT security expert\, to train you how to keep your business\, home and communities safe from:\n\n<ul>\n	<li>Mobile Breaches</li>\n	<li>Unsecure WIFI</li>\n	<li>Faulty Firewalls</li>\n	<li>Bad Emails</li>\n	<li>Ransomware</li>\n</ul>\n<em>October is Cyber Security Awareness Month</em>. <strong>K2 Tech Group</strong> is your local Champion for <strong>StaySafeOnline.org&nbsp\;</strong>through a&nbsp\;partnership with the <strong>Department of Homeland Security</strong>&nbsp\;and the <strong>Greater Irmo Chamber of Commerce</strong>&nbsp\;to help ensure our community internet networks are safe.&nbsp\;
LOCATION:Greater Irmo Chamber of Commerce 1235 Columbia Ave. Irmo\, SC 29063
UID:e.1333.2481
SEQUENCE:3
DTSTAMP:20260425T015343Z
URL:https://business.greaterirmochamber.com/events/details/october-chamber-breakfast-k2-tech-presents-the-7-deadly-it-sins-2481
END:VEVENT

END:VCALENDAR
