BEGIN:VCALENDAR
VERSION:2.0
PRODID:-//ChamberMaster//Event Calendar 2.0//EN
METHOD:PUBLISH
X-PUBLISHED-TTL:P3D
REFRESH-INTERVAL:P3D
CALSCALE:GREGORIAN
BEGIN:VEVENT
DTSTART:20171213T000000Z
DTEND:20171213T030000Z
X-MICROSOFT-CDO-ALLDAYEVENT:FALSE
SUMMARY:Office Holiday Soiree
DESCRIPTION:If you and your office are looking for a fun and unique place to have a Holiday party\, look no further than Spirit Communications Park. The Fireflies are hosting an Office Holiday Soiree that doubles as a networking event. We will have a full buffet and bar in our Club Lounge with music and plenty of space to dance and celebrate the holiday season with your co-workers. Private Suites are available to host your staff's end of year festivities or gift exchange.
X-ALT-DESC;FMTTYPE=text/html:<span style="font-family: verdana\; font-size: small\; background-color: rgb(255\, 255\, 255)\;">If you and your office are looking for a fun and unique place to have a Holiday party\, look no further than Spirit Communications Park. The Fireflies are hosting an Office Holiday Soiree that doubles as a networking event. We will have a full buffet and bar in our Club Lounge with music and plenty of space to dance and celebrate the holiday season with your co-workers. Private Suites are available to host your staff&#39\;s end of year festivities or gift exchange.&nbsp\;</span>
LOCATION:Spirit Communications Park 1640 Freed Street Columbia\, SC 29201
UID:e.1333.2930
SEQUENCE:3
DTSTAMP:20260424T034118Z
URL:https://business.greaterirmochamber.com/events/details/office-holiday-soiree-2930
END:VEVENT

END:VCALENDAR
