BEGIN:VCALENDAR
VERSION:2.0
PRODID:-//ChamberMaster//Event Calendar 2.0//EN
METHOD:PUBLISH
X-PUBLISHED-TTL:P3D
REFRESH-INTERVAL:P3D
CALSCALE:GREGORIAN
BEGIN:VEVENT
DTSTART:20251116T200000Z
DTEND:20251116T213000Z
X-MICROSOFT-CDO-ALLDAYEVENT:FALSE
SUMMARY:Organist Chase Loomer in Concert
DESCRIPTION:Sunday\, November 16\, at 3 PM We're pleased to welcome Chase Loomer in concert as a part of our 2025-26 organ concert series. Admission is free of charge.\n\n\n\nChase Loomer is an award-winning organist who has performed concerts throughout North America and appeared as a soloist and collaborator with major symphonic and early music orchestras. Equally passionate about the performance of repertoire and the art of improvisation\, he is currently the Organist and Associate Choirmaster at The Cathedral of St. Philip in Atlanta\, GA.
X-ALT-DESC;FMTTYPE=text/html:<span style="font-size:16px\;"><span style="font-family:verdana\;">Sunday\, November 16\, at 3 PM We&#39\;re pleased to welcome Chase Loomer in concert as a part of our 2025-26 organ concert series. Admission is free of charge.<br />\n<br />\nChase Loomer is an award-winning organist who has performed concerts throughout North America and appeared as a soloist and collaborator with major symphonic and early music orchestras. Equally passionate about the performance of repertoire and the art of improvisation\, he is currently the Organist and Associate Choirmaster at The Cathedral of St. Philip in Atlanta\, GA.</span></span>
LOCATION:St. Martin's-in-the-Fields Episcopal Church\, 5220 Clemson Ave\, Columbia\, SC 29206
UID:e.1333.6237
SEQUENCE:3
DTSTAMP:20260422T233800Z
URL:https://business.greaterirmochamber.com/events/details/organist-chase-loomer-in-concert-6237
END:VEVENT

END:VCALENDAR
