BEGIN:VCALENDAR
VERSION:2.0
PRODID:-//ChamberMaster//Event Calendar 2.0//EN
METHOD:PUBLISH
X-PUBLISHED-TTL:P3D
REFRESH-INTERVAL:P3D
CALSCALE:GREGORIAN
BEGIN:VEVENT
DTSTART;VALUE=DATE:20160625
DTEND;VALUE=DATE:20160814
TRANSP:TRANSPARENT
X-MICROSOFT-CDO-ALLDAYEVENT:TRUE
SUMMARY:Paint-A-Pin and Strike Out Alzheimer's
DESCRIPTION:Use your creativity to transform a bowling pin into a work of art!  This is a great summer project for children and adults alike.  And best of all\, the proceeds from this contest will benefit the Alzheimer's Association! Pins will be judged on August 13.
X-ALT-DESC;FMTTYPE=text/html:<span style="background:white\;"><span style="color:#333333\;"><span style="font-family:arial\,sans-serif\;"><span style="font-size:10.0pt\;">Use your creativity to transform a bowling pin into a work of art! &nbsp\;This is a great summer project for children and adults alike. &nbsp\;And best of all\, the proceeds from this contest will benefit the Alzheimer&#39\;s Association! Pins will be judged on August 13.&nbsp\;</span></span></span></span>
LOCATION:Anchor Lanes 1000 Columbia Avenue Irmo\, SC 29063
UID:e.1333.1953
SEQUENCE:3
DTSTAMP:20260425T034047Z
URL:https://business.greaterirmochamber.com/events/details/paint-a-pin-and-strike-out-alzheimer-s-06-25-2016-1953
END:VEVENT

END:VCALENDAR
