BEGIN:VCALENDAR
VERSION:2.0
PRODID:-//ChamberMaster//Event Calendar 2.0//EN
METHOD:PUBLISH
X-PUBLISHED-TTL:P3D
REFRESH-INTERVAL:P3D
CALSCALE:GREGORIAN
BEGIN:VEVENT
DTSTART:20170822T223000Z
DTEND:20170823T003000Z
X-MICROSOFT-CDO-ALLDAYEVENT:FALSE
SUMMARY:Paint Nite at the Irmo Chamber
DESCRIPTION:Join us as we enjoy complimentary beverages and appetizers while we paint "Serene Beach Blossoms" with the fun and entertaining Cat Baker!
X-ALT-DESC;FMTTYPE=text/html:Join us as we enjoy complimentary beverages and appetizers while we paint &quot\;Serene Beach Blossoms&quot\; with the fun and entertaining Cat Baker!
LOCATION:1235 Columbia Ave. Irmo\, SC 29063
UID:e.1333.2799
SEQUENCE:3
DTSTAMP:20260424T095755Z
URL:https://business.greaterirmochamber.com/events/details/paint-nite-at-the-irmo-chamber-2799
END:VEVENT

END:VCALENDAR
