BEGIN:VCALENDAR
VERSION:2.0
PRODID:-//ChamberMaster//Event Calendar 2.0//EN
METHOD:PUBLISH
X-PUBLISHED-TTL:P3D
REFRESH-INTERVAL:P3D
CALSCALE:GREGORIAN
BEGIN:VEVENT
DTSTART:20170919T223000Z
DTEND:20170920T003000Z
X-MICROSOFT-CDO-ALLDAYEVENT:FALSE
SUMMARY:Paint Nite at the Irmo Chamber
DESCRIPTION:Join us as we enjoy beverages and appetizers while we paint "Bridge In The Fall" with the fun and entertaining Cat Baker!
X-ALT-DESC;FMTTYPE=text/html:Join us as we enjoy beverages and appetizers while we paint &quot\;Bridge&nbsp\;In The Fall&quot\; with the fun and entertaining Cat Baker!
LOCATION:1235 Columbia Ave. Irmo\, SC 29063
UID:e.1333.2899
SEQUENCE:3
DTSTAMP:20260424T082914Z
URL:https://business.greaterirmochamber.com/events/details/paint-nite-at-the-irmo-chamber-2899
END:VEVENT

END:VCALENDAR
