BEGIN:VCALENDAR
VERSION:2.0
PRODID:-//ChamberMaster//Event Calendar 2.0//EN
METHOD:PUBLISH
X-PUBLISHED-TTL:P3D
REFRESH-INTERVAL:P3D
CALSCALE:GREGORIAN
BEGIN:VEVENT
DTSTART:20170516T223000Z
DTEND:20170517T003000Z
X-MICROSOFT-CDO-ALLDAYEVENT:FALSE
SUMMARY:Paint Nite Columbia in Irmo!
DESCRIPTION:The Greater Irmo Chamber is excited to welcome Paint Nite Columbia to Irmo on May 16th! We'll be painting The Jewel of Paris while we enjoy some wine and appetizers. Only 25 seats available so get your tickets today!
X-ALT-DESC;FMTTYPE=text/html:<span style="color: rgb(75\, 79\, 86)\; font-family: 'San Francisco'\, -apple-system\, BlinkMacSystemFont\, '.SFNSText-Regular'\, sans-serif\; font-size: 14px\; letter-spacing: -0.23999999463558197px\;">The Greater Irmo Chamber is excited to welcome <strong>Paint Nite Columbia</strong>&nbsp\;to Irmo on<strong>&nbsp\;May 16th</strong>! We&#39\;ll be painting <em><strong>The Jewel of Paris</strong></em> while we enjoy some wine and appetizers. <em>Only 25 seats available so get your tickets today!</em></span>
LOCATION:Greater Irmo Chamber 1235 Columbia Ave. Irmo\, SC 29063
UID:e.1333.2549
SEQUENCE:3
DTSTAMP:20260424T142010Z
URL:https://business.greaterirmochamber.com/events/details/paint-nite-columbia-in-irmo-2549
END:VEVENT

END:VCALENDAR
