BEGIN:VCALENDAR
VERSION:2.0
PRODID:-//ChamberMaster//Event Calendar 2.0//EN
METHOD:PUBLISH
X-PUBLISHED-TTL:P3D
REFRESH-INTERVAL:P3D
CALSCALE:GREGORIAN
BEGIN:VEVENT
DTSTART:20170606T180000Z
DTEND:20170606T203000Z
X-MICROSOFT-CDO-ALLDAYEVENT:FALSE
SUMMARY:Palmetto Health Supplier Diversity Conference
DESCRIPTION:Palmetto Health Supplier Diversity Conference\n\n"Advantage of a Game Changer" "What sets your company above the rest?"\n\nSpeaker:  Rania Jamison\n\nTo register\, send an email to: palmettohealthdiversityprogram@palmettohealth.org by May 30\, 2017
X-ALT-DESC;FMTTYPE=text/html:Palmetto Health Supplier Diversity Conference<br />\n&quot\;Advantage of a Game Changer&quot\; &quot\;What sets your company above the rest?&quot\;<br />\nSpeaker: &nbsp\;Rania Jamison<br />\nTo register\, send an email to: palmettohealthdiversityprogram@palmettohealth.org by May 30\, 2017
LOCATION:Palmetto Health Administrative Building Greystone Auditorium 293 Greystone Blvd. Columbia\, SC
UID:e.1333.2560
SEQUENCE:3
DTSTAMP:20260424T143050Z
URL:https://business.greaterirmochamber.com/events/details/palmetto-health-supplier-diversity-conference-2560
END:VEVENT

END:VCALENDAR
