BEGIN:VCALENDAR
VERSION:2.0
PRODID:-//ChamberMaster//Event Calendar 2.0//EN
METHOD:PUBLISH
X-PUBLISHED-TTL:P3D
REFRESH-INTERVAL:P3D
CALSCALE:GREGORIAN
BEGIN:VEVENT
DTSTART:20161119T003000Z
DTEND:20161119T030000Z
X-MICROSOFT-CDO-ALLDAYEVENT:FALSE
SUMMARY:Parsons Dance Company
DESCRIPTION:Parsons Dance\, internationally renowned for their stunning athleticism and ensemble choreography\, performs with an exuberance\, joy and passion that is uniquely American. Choreographer David Parsons is known for work that is virtuosic and uplifting – this performance of repertory work will feature audience favorites from throughout his 30-year career.
X-ALT-DESC;FMTTYPE=text/html:Parsons Dance\, internationally renowned for their stunning athleticism and ensemble choreography\, performs with an exuberance\, joy and passion that is uniquely American. Choreographer David Parsons is known for work that is virtuosic and uplifting – this performance of repertory work will feature audience favorites from throughout his 30-year career. \n
LOCATION:Harbison Theatre at Midlands Technical College 7300 College Street Irmo\, SC 29063 803-407-5011
UID:e.1333.2445
SEQUENCE:3
DTSTAMP:20260424T230017Z
URL:https://business.greaterirmochamber.com/events/details/parsons-dance-company-11-18-2016-2445
END:VEVENT

END:VCALENDAR
