BEGIN:VCALENDAR
VERSION:2.0
PRODID:-//ChamberMaster//Event Calendar 2.0//EN
METHOD:PUBLISH
X-PUBLISHED-TTL:P3D
REFRESH-INTERVAL:P3D
CALSCALE:GREGORIAN
BEGIN:VEVENT
DTSTART:20120405T123000Z
DTEND:20120405T140000Z
X-MICROSOFT-CDO-ALLDAYEVENT:FALSE
SUMMARY:Pastor and Chaplain Breakfast
DESCRIPTION:We invite all area pastors and chaplains to join us for breakfast! This a great time to join together and fellowship. Please RSVP to Melissa at 803-781-2243.
X-ALT-DESC;FMTTYPE=text/html:We invite all area pastors and chaplains to join us for breakfast! This a great time to join together and fellowship. Please RSVP to Melissa at 803-781-2243.
LOCATION:
UID:e.1333.184
SEQUENCE:3
DTSTAMP:20260421T082840Z
URL:https://business.greaterirmochamber.com/events/details/pastor-and-chaplain-breakfast-04-05-2012-184
END:VEVENT

END:VCALENDAR
