BEGIN:VCALENDAR
VERSION:2.0
PRODID:-//ChamberMaster//Event Calendar 2.0//EN
METHOD:PUBLISH
X-PUBLISHED-TTL:P3D
REFRESH-INTERVAL:P3D
CALSCALE:GREGORIAN
BEGIN:VEVENT
DTSTART:20170517T160000Z
DTEND:20170517T170000Z
X-MICROSOFT-CDO-ALLDAYEVENT:FALSE
SUMMARY:Peak Dental Ribbon Cutting
DESCRIPTION:Join us to welcome Peak Dental!!\n\nRibbon Cutting 12:15 p.m.\n\nLight lunch will be provided
X-ALT-DESC;FMTTYPE=text/html:Join us to welcome Peak Dental!!<br />\nRibbon Cutting 12:15 p.m.<br />\nLight lunch will be provided
LOCATION:11132 Broad River Road\, Suite A Irmo\, SC 29063
UID:e.1333.2556
SEQUENCE:3
DTSTAMP:20260424T141925Z
URL:https://business.greaterirmochamber.com/events/details/peak-dental-ribbon-cutting-2556
END:VEVENT

END:VCALENDAR
