BEGIN:VCALENDAR
VERSION:2.0
PRODID:-//ChamberMaster//Event Calendar 2.0//EN
METHOD:PUBLISH
X-PUBLISHED-TTL:P3D
REFRESH-INTERVAL:P3D
CALSCALE:GREGORIAN
BEGIN:VEVENT
DTSTART:20251102T150000Z
DTEND:20251102T210000Z
X-MICROSOFT-CDO-ALLDAYEVENT:FALSE
SUMMARY:Pictures with Santa at The Irmo Fire Foundation
DESCRIPTION:The Irmo Fire Foundation invites you to our annual Pictures with Santa event at the firehouse! This special occasion offers a unique opportunity for children and families to capture their Christmas memories with Santa at our Headquarters Station.\n\n\n\nEnjoy complimentary cookies and hot cocoa and take a tour of a firetruck while you wait to see Mr. Claus! We want to make sure every family has a chance to see Santa without the long lines\, so please visit us online and select a time slot and package that works best for you.\n\n\n\nWalk-ups are welcome\, but space is limited- so reserving your spot ahead of time guarantees your moment with Mr. Claus.
X-ALT-DESC;FMTTYPE=text/html:<span style="font-size:16px\;"><span style="font-family:verdana\;"><span style="color: rgb(8\, 8\, 9)\;">The Irmo Fire Foundation invites you to our annual Pictures with Santa event at the firehouse! This special occasion offers a unique opportunity for children and families to capture their Christmas memories with Santa at our Headquarters Station.<br />\n<br />\nEnjoy complimentary cookies and hot cocoa and take a tour of a firetruck while you wait to see Mr. Claus! We want to make sure every family has a chance to see Santa without the long lines\, so please visit us online and select a time slot and package that works best for you.<br />\n<br />\nWalk-ups are welcome\, but space is limited- so reserving your spot ahead of time guarantees your moment with Mr. Claus.</span></span></span>
LOCATION:6017 St. Andrews Road
UID:e.1333.6232
SEQUENCE:3
DTSTAMP:20260423T004538Z
URL:https://business.greaterirmochamber.com/events/details/pictures-with-santa-at-the-irmo-fire-foundation-6232
END:VEVENT

END:VCALENDAR
