BEGIN:VCALENDAR
VERSION:2.0
PRODID:-//ChamberMaster//Event Calendar 2.0//EN
METHOD:PUBLISH
X-PUBLISHED-TTL:P3D
REFRESH-INTERVAL:P3D
CALSCALE:GREGORIAN
BEGIN:VEVENT
DTSTART:20170221T230000Z
DTEND:20170222T003000Z
X-MICROSOFT-CDO-ALLDAYEVENT:FALSE
SUMMARY:Planning for Healthcare Cost in Retirement
DESCRIPTION:Educational Seminar\,  Dinner will be served. \n\n\n\nHosted by:  Prudential Financial
X-ALT-DESC;FMTTYPE=text/html:<font face="sans-serif" size="2" style="color: rgb(0\, 0\, 0)\;">Educational Seminar\, &nbsp\;Dinner will be served.</font><span style="color: rgb(0\, 0\, 0)\; font-family: Cambria\; font-size: 14px\;">&nbsp\;</span><br />\n<br style="color: rgb(0\, 0\, 0)\; font-family: Cambria\; font-size: 14px\;" />\n<font face="sans-serif" size="2" style="color: rgb(0\, 0\, 0)\;">Hosted by: &nbsp\;Prudential Financial</font><span style="color: rgb(0\, 0\, 0)\; font-family: Cambria\; font-size: 14px\;">&nbsp\;</span>
LOCATION:Old Mill Brew Pub Lexington\, SC
UID:e.1333.2518
SEQUENCE:3
DTSTAMP:20260424T200346Z
URL:https://business.greaterirmochamber.com/events/details/planning-for-healthcare-cost-in-retirement-2518
END:VEVENT

END:VCALENDAR
