BEGIN:VCALENDAR
VERSION:2.0
PRODID:-//ChamberMaster//Event Calendar 2.0//EN
METHOD:PUBLISH
X-PUBLISHED-TTL:P3D
REFRESH-INTERVAL:P3D
CALSCALE:GREGORIAN
BEGIN:VEVENT
DTSTART:20170912T220000Z
DTEND:20170913T000000Z
X-MICROSOFT-CDO-ALLDAYEVENT:FALSE
SUMMARY:PLANNING YOUR FUTURE?
DESCRIPTION:Helping you plan for your long-term care needs!\n\nLutheran Homes of SC\n\nHeavy Hors d'oeuvre will be served.\n\nReservations required by Sept. 8\, 2017
X-ALT-DESC;FMTTYPE=text/html:Helping you plan for your long-term care needs!<br />\nLutheran Homes of SC<br />\nHeavy Hors d&#39\;oeuvre will be served.<br />\nReservations required by Sept. 8\, 2017<br />\n&nbsp\;
LOCATION:The Heritage at Lowman Wellness Center 2101 Dutch Fork Road Chapin\, SC
UID:e.1333.2889
SEQUENCE:3
DTSTAMP:20260424T081903Z
URL:https://business.greaterirmochamber.com/events/details/planning-your-future-2889
END:VEVENT

END:VCALENDAR
