BEGIN:VCALENDAR
VERSION:2.0
PRODID:-//ChamberMaster//Event Calendar 2.0//EN
METHOD:PUBLISH
X-PUBLISHED-TTL:P3D
REFRESH-INTERVAL:P3D
CALSCALE:GREGORIAN
BEGIN:VEVENT
DTSTART:20170402T193000Z
DTEND:20170402T220000Z
X-MICROSOFT-CDO-ALLDAYEVENT:FALSE
SUMMARY:POPS: Daring Escapades
DESCRIPTION:Every villain needs his theme and every heroine her soaring anthem\; each chase scene its frantic accelerando and each epic battle its equally epic melody. The S.C. Philharmonic brings adventure to life with the madcap\, thrilling\, engrossing music of America's favorite action-packed classics!
X-ALT-DESC;FMTTYPE=text/html:Every villain needs his theme and every heroine her soaring anthem\; each chase scene its frantic accelerando and each epic battle its equally epic melody. The S.C. Philharmonic brings adventure to life with the madcap\, thrilling\, engrossing music of America&rsquo\;s favorite action-packed classics!&nbsp\;
LOCATION:Harbison Theatre at Midlands Technical College 7300 College Street Irmo\, SC 29063 803-407-5011
UID:e.1333.2460
SEQUENCE:3
DTSTAMP:20260424T155008Z
URL:https://business.greaterirmochamber.com/events/details/pops-daring-escapades-04-02-2017-2460
END:VEVENT

END:VCALENDAR
