BEGIN:VCALENDAR
VERSION:2.0
PRODID:-//ChamberMaster//Event Calendar 2.0//EN
METHOD:PUBLISH
X-PUBLISHED-TTL:P3D
REFRESH-INTERVAL:P3D
CALSCALE:GREGORIAN
BEGIN:VEVENT
DTSTART:20161211T203000Z
DTEND:20161211T223000Z
X-MICROSOFT-CDO-ALLDAYEVENT:FALSE
SUMMARY:POPS: Holiday Pops - SOLD OUT
DESCRIPTION:Sweep your chimney and light your menorah – the holidays are here! Celebrate the festive season with the fifth-annual Holiday Pops concert performed by the S.C. Philharmonic. Featuring the classic tunes you grew up singing and the latest holiday hits – this family-friendly concert will leave all in the joyous spirit.
X-ALT-DESC;FMTTYPE=text/html:Sweep your chimney and light your menorah – the holidays are here! Celebrate the festive season with the fifth-annual Holiday Pops concert performed by the S.C. Philharmonic. Featuring the classic tunes you grew up singing and the latest holiday hits – this family-friendly concert will leave all in the joyous spirit.\n
LOCATION:Harbison Theatre at Midlands Technical College 7300 College Street Irmo\, SC 29063 803-407-5011
UID:e.1333.2447
SEQUENCE:3
DTSTAMP:20260424T225104Z
URL:https://business.greaterirmochamber.com/events/details/pops-holiday-pops-sold-out-12-11-2016-2447
END:VEVENT

END:VCALENDAR
