BEGIN:VCALENDAR
VERSION:2.0
PRODID:-//ChamberMaster//Event Calendar 2.0//EN
METHOD:PUBLISH
X-PUBLISHED-TTL:P3D
REFRESH-INTERVAL:P3D
CALSCALE:GREGORIAN
BEGIN:VEVENT
DTSTART:20161016T193000Z
DTEND:20161016T213000Z
X-MICROSOFT-CDO-ALLDAYEVENT:FALSE
SUMMARY:POPS: Romantic Refrains
DESCRIPTION:Maria and Tony\, Scarlett and Rhett\, The Phantom and Christine – their unforgettable love affairs rose and fell on swells of orchestral magic. Join us when the S.C. Philharmonic honors passion and heartbreak with the scores of their favorite film and Broadway romances.
X-ALT-DESC;FMTTYPE=text/html:Maria and Tony\, Scarlett and Rhett\, The Phantom and Christine – their unforgettable love affairs rose and fell on swells of orchestral magic. Join us when the S.C. Philharmonic honors passion and heartbreak with the scores of their favorite film and Broadway romances. \n
LOCATION:Harbison Theatre at Midlands Technical College 7300 College Street Irmo\, SC 29063 803-407-5011
UID:e.1333.2442
SEQUENCE:3
DTSTAMP:20260425T014700Z
URL:https://business.greaterirmochamber.com/events/details/pops-romantic-refrains-10-16-2016-2442
END:VEVENT

END:VCALENDAR
