BEGIN:VCALENDAR
VERSION:2.0
PRODID:-//ChamberMaster//Event Calendar 2.0//EN
METHOD:PUBLISH
X-PUBLISHED-TTL:P3D
REFRESH-INTERVAL:P3D
CALSCALE:GREGORIAN
BEGIN:VEVENT
DTSTART:20180408T193000Z
DTEND:20180408T213000Z
X-MICROSOFT-CDO-ALLDAYEVENT:FALSE
SUMMARY:Pops: Wizards\, Witches\, and Fantastic Beasts
DESCRIPTION:The beautiful scores of the Harry Potter films and Fantastic Beasts and Where to Find Them will enchant audiences when Harbison goes to Hogwarts!
X-ALT-DESC;FMTTYPE=text/html:The beautiful scores of the Harry Potter films and Fantastic Beasts and Where to Find Them will enchant audiences when Harbison goes to Hogwarts!
LOCATION:Harbison Theatre at Midlands Technical College 7300 College Street\, Irmo\, SC 29063
UID:e.1333.2793
SEQUENCE:3
DTSTAMP:20260423T211120Z
URL:https://business.greaterirmochamber.com/events/details/pops-wizards-witches-and-fantastic-beasts-2793
END:VEVENT

END:VCALENDAR
