BEGIN:VCALENDAR
VERSION:2.0
PRODID:-//ChamberMaster//Event Calendar 2.0//EN
METHOD:PUBLISH
X-PUBLISHED-TTL:P3D
REFRESH-INTERVAL:P3D
CALSCALE:GREGORIAN
BEGIN:VEVENT
DTSTART:20200528T210000Z
DTEND:20200529T000000Z
X-MICROSOFT-CDO-ALLDAYEVENT:FALSE
SUMMARY:POSTPONED DUE TO PANDEMIC: 2020 Red White & Blues Wine Walk
DESCRIPTION:Join us for a beautiful evening of wine\, food and live music in Irmo Town Park!  This year\, we'll have Rhythm 54 in the gazebo featuring classic rock\, blues and country favorites to sing along to!
X-ALT-DESC;FMTTYPE=text/html:<span style="font-size:16px\;">Join us for a beautiful evening of wine\, food and live music in <strong>Irmo Town Park</strong>! &nbsp\;This year\, we&#39\;ll have <strong>Rhythm 54</strong> in the gazebo featuring classic rock\, blues and country favorites to sing along to! &nbsp\;</span><br />\n&nbsp\;
LOCATION:Irmo Town Park 1249 Lexington Ave. Irmo\, SC 29063
UID:e.1333.3684
SEQUENCE:3
DTSTAMP:20260422T064750Z
URL:https://business.greaterirmochamber.com/events/details/postponed-due-to-pandemic-2020-red-white-blues-wine-walk-3684
END:VEVENT

END:VCALENDAR
