BEGIN:VCALENDAR
VERSION:2.0
PRODID:-//ChamberMaster//Event Calendar 2.0//EN
METHOD:PUBLISH
X-PUBLISHED-TTL:P3D
REFRESH-INTERVAL:P3D
CALSCALE:GREGORIAN
BEGIN:VEVENT
DTSTART:20170504T193000Z
DTEND:20170504T213000Z
X-MICROSOFT-CDO-ALLDAYEVENT:FALSE
SUMMARY:PROFESSIONAL NETWORKING & KENTUCKY DERBY - The first Jewel in thoroughbred racing’s Triple Crown!
DESCRIPTION:Let's get lucky in Kentucky! Come join us to celebrate the 143rd run for the roses. Please join us at HarborChase of Columbia as we share in a great time of fun for the Derby! Break out your fancy hats and bow ties for a chance to win a prize. Plan to enjoy some traditional derby cuisine including sampling delicious bourbon meatballs\, cucumber sandwiches\, derby pie and mint julep lemonade.\n\n\n\nTo reserve your ticket\, call now!\n\n(803) 781-2243
X-ALT-DESC;FMTTYPE=text/html:<strong>Let&rsquo\;s get lucky in Kentucky! Come join us to celebrate the 143rd run for the roses. Please join us at HarborChase of Columbia as we share in a great time of fun for the Derby! Break out your</strong><span style="color:rgb(128\, 0\, 128)"><strong> </strong></span><span style="color:rgb(238\, 130\, 238)"><strong>fancy hats </strong></span><strong>and <span style="color:rgb(64\, 224\, 208)">bow ties </span>for a chance to <span style="color:rgb(218\, 165\, 32)">win a prize</span>. Plan to enjoy some traditional <span style="color:rgb(153\, 0\, 153)">derby cuisine </span>including sampling delicious bourbon meatballs\, cucumber sandwiches\, derby pie and mint julep lemonade.<br />\n<br />\n<span style="color:rgb(153\, 204\, 0)">To reserve your ticket\, call now!<br />\n(803) 781-2243 </span></strong>
LOCATION:HarborChase of Columbia 120 Fairforest Road Columbia\, SC 29212
UID:e.1333.2555
SEQUENCE:3
DTSTAMP:20260424T155528Z
URL:https://business.greaterirmochamber.com/events/details/professional-networking-kentucky-derby-the-first-jewel-in-thoroughbred-racing-s-triple-crown-2555
END:VEVENT

END:VCALENDAR
