BEGIN:VCALENDAR
VERSION:2.0
PRODID:-//ChamberMaster//Event Calendar 2.0//EN
METHOD:PUBLISH
X-PUBLISHED-TTL:P3D
REFRESH-INTERVAL:P3D
CALSCALE:GREGORIAN
BEGIN:VEVENT
DTSTART:20171103T153000Z
DTEND:20171103T163000Z
X-MICROSOFT-CDO-ALLDAYEVENT:FALSE
SUMMARY:ProSource Ribbon Cutting
DESCRIPTION:Join us to welcome ProSource to our Chamber! \n\nRibbon Cutting at 11:45 a.m.\n\nA light lunch will be served!!!
X-ALT-DESC;FMTTYPE=text/html:Join us to welcome ProSource to our Chamber!&nbsp\;<br />\nRibbon Cutting at 11:45 a.m.<br />\nA light lunch will be served!!!
LOCATION:1201 Lake Murray Boulevard Irmo\, SC
UID:e.1333.2921
SEQUENCE:3
DTSTAMP:20260424T064626Z
URL:https://business.greaterirmochamber.com/events/details/prosource-ribbon-cutting-2921
END:VEVENT

END:VCALENDAR
