BEGIN:VCALENDAR
VERSION:2.0
PRODID:-//ChamberMaster//Event Calendar 2.0//EN
METHOD:PUBLISH
X-PUBLISHED-TTL:P3D
REFRESH-INTERVAL:P3D
CALSCALE:GREGORIAN
BEGIN:VEVENT
DTSTART:20180921T160000Z
DTEND:20180921T160000Z
X-MICROSOFT-CDO-ALLDAYEVENT:FALSE
SUMMARY:Reggie Sullivan Quartet
DESCRIPTION:In this Carolina Shout series premiere\, listeners are sure to be tapping their feet\, clapping their hands\, and bobbing their heads to the soulful sounds of Sullivan and his jazz quartet.
X-ALT-DESC;FMTTYPE=text/html:In this Carolina Shout series premiere\, listeners are sure to be tapping their feet\, clapping their hands\, and bobbing their heads to the soulful sounds of Sullivan and his jazz quartet.
LOCATION:Harbison Theatre at Midlands Technical College 7300 College Street Irmo\, SC 29063
UID:e.1333.3228
SEQUENCE:3
DTSTAMP:20260423T132327Z
URL:https://business.greaterirmochamber.com/events/details/reggie-sullivan-quartet-3228
END:VEVENT

END:VCALENDAR
