BEGIN:VCALENDAR
VERSION:2.0
PRODID:-//ChamberMaster//Event Calendar 2.0//EN
METHOD:PUBLISH
X-PUBLISHED-TTL:P3D
REFRESH-INTERVAL:P3D
CALSCALE:GREGORIAN
BEGIN:VEVENT
DTSTART:20160929T220000Z
DTEND:20160930T000000Z
X-MICROSOFT-CDO-ALLDAYEVENT:FALSE
SUMMARY:Rep. Chip Huggins hosting Chapin Area Roads Meeting
DESCRIPTION:Join Rep. Chip Huggins and representatives from Lex. Co Public Works and SC Dept. of Transportation to hear what is being planned in the area to improve traffic and road conditions.
X-ALT-DESC;FMTTYPE=text/html:Join Rep. Chip Huggins and representatives from Lex. Co Public Works and SC Dept. of Transportation to hear what is being planned in the area to improve traffic and road conditions.
LOCATION:Chapin Town Hall\, the Community Room 157 NW Columbia Avenue Chapin\, SC
UID:e.1333.2482
SEQUENCE:3
DTSTAMP:20260425T020528Z
URL:https://business.greaterirmochamber.com/events/details/rep-chip-huggins-hosting-chapin-area-roads-meeting-2482
END:VEVENT

END:VCALENDAR
