BEGIN:VCALENDAR
VERSION:2.0
PRODID:-//ChamberMaster//Event Calendar 2.0//EN
METHOD:PUBLISH
X-PUBLISHED-TTL:P3D
REFRESH-INTERVAL:P3D
CALSCALE:GREGORIAN
BEGIN:VEVENT
DTSTART:20180917T223000Z
DTEND:20180918T000000Z
X-MICROSOFT-CDO-ALLDAYEVENT:FALSE
SUMMARY:Retirement Redzone Challenges
DESCRIPTION:Hosted by Prudential.   J D Hacker Financial Professional.  Guest Speaker:  Meaghan DePalma VP Prudential.\n\n\n\nThe workshop will help you:\n\nUnderstand the major challenges in the Retirement Red Zone.\n\nDiscover potential solutions that ca help address these challenges.\n\nConsider a strategy that can help provide guaranteed retirement income with a variable annuity available from Prudential companies.
X-ALT-DESC;FMTTYPE=text/html:Hosted by Prudential.&nbsp\;&nbsp\; J D Hacker Financial Professional.&nbsp\; Guest Speaker:&nbsp\; Meaghan DePalma VP Prudential.<br />\n<br />\nThe workshop will help you:<br />\nUnderstand the major challenges in the Retirement Red Zone.<br />\nDiscover potential solutions that ca help address these challenges.<br />\nConsider a strategy that can help provide guaranteed retirement income with a variable annuity available from Prudential companies.
LOCATION:Bone-In Barbeque\, 2180 Boyce Street\, Columbia\, SC 29201. Next to Spirit Communications Park. Easy parking.
UID:e.1333.3264
SEQUENCE:3
DTSTAMP:20260423T132328Z
URL:https://business.greaterirmochamber.com/events/details/retirement-redzone-challenges-3264
END:VEVENT

END:VCALENDAR
