BEGIN:VCALENDAR
VERSION:2.0
PRODID:-//ChamberMaster//Event Calendar 2.0//EN
METHOD:PUBLISH
X-PUBLISHED-TTL:P3D
REFRESH-INTERVAL:P3D
CALSCALE:GREGORIAN
BEGIN:VEVENT
DTSTART:20160930T210000Z
DTEND:20161001T000000Z
X-MICROSOFT-CDO-ALLDAYEVENT:FALSE
SUMMARY:Ribbon Cutting and Grand Re-Opening Celebration of Roto Rooter
DESCRIPTION:Join us we celebrate the grand re-opening of Roto Rooter! Steve and Andrea Rowe have renovated their property and their business is a fantastic addition to Columbia Ave. and the Irmo business community. Food\, drinks and live music from Not Necessarily The Band!
X-ALT-DESC;FMTTYPE=text/html:Join us we celebrate the grand re-opening of Roto Rooter! Steve and Andrea Rowe have renovated their property and their business is a fantastic addition to Columbia Ave. and the Irmo business community. Food\, drinks and live music from Not Necessarily The Band!
LOCATION:1231 Columbia Ave. (right next door to the Chamber).
UID:e.1333.2471
SEQUENCE:3
DTSTAMP:20260425T020751Z
URL:https://business.greaterirmochamber.com/events/details/ribbon-cutting-and-grand-re-opening-celebration-of-roto-rooter-2471
END:VEVENT

END:VCALENDAR
