BEGIN:VCALENDAR
VERSION:2.0
PRODID:-//ChamberMaster//Event Calendar 2.0//EN
METHOD:PUBLISH
X-PUBLISHED-TTL:P3D
REFRESH-INTERVAL:P3D
CALSCALE:GREGORIAN
BEGIN:VEVENT
DTSTART:20200916T190000Z
DTEND:20200916T200000Z
X-MICROSOFT-CDO-ALLDAYEVENT:FALSE
SUMMARY:Ribbon Cutting: Ask Caroline-Medicare Solutions
DESCRIPTION:Join us on Wednesday\, September 16\, 2020 at 3PM when we welcome our long-time friend\, Caroline Ward with Ask Caroline-Medicare Solutions to the #FunChamber!  We'll cut the ribbon at 3:15 at the Irmo Chamber House!
X-ALT-DESC;FMTTYPE=text/html:<span style="font-size:16px\;">Join us on <strong>Wednesday\, September 16\, 2020</strong> at <strong>3PM</strong> when we welcome our long-time friend\, Caroline Ward with <strong>Ask Caroline-Medicare Solutions </strong>to the <strong>#FunChamber</strong>! &nbsp\;We&#39\;ll cut the ribbon at <strong>3:15</strong> at the <strong>Irmo Chamber House</strong>!</span>
LOCATION:
UID:e.1333.3958
SEQUENCE:3
DTSTAMP:20260422T045713Z
URL:https://business.greaterirmochamber.com/events/details/ribbon-cutting-ask-caroline-medicare-solutions-3958
END:VEVENT

END:VCALENDAR
