BEGIN:VCALENDAR
VERSION:2.0
PRODID:-//ChamberMaster//Event Calendar 2.0//EN
METHOD:PUBLISH
X-PUBLISHED-TTL:P3D
REFRESH-INTERVAL:P3D
CALSCALE:GREGORIAN
BEGIN:VEVENT
DTSTART:20190926T153000Z
DTEND:20190926T163000Z
X-MICROSOFT-CDO-ALLDAYEVENT:FALSE
SUMMARY:Ribbon Cutting at Woodridge Memorial Park & Funeral Home
DESCRIPTION:Join us to welcome Woodridge Memorial Park & Funeral Home to our chamber!\n\nA light lunch will be provided!\n\nRibbon Cutting @ 11:45 a.m.
X-ALT-DESC;FMTTYPE=text/html:Join us to welcome Woodridge Memorial Park &amp\; Funeral Home to our chamber!<br />\nA light lunch will be provided!<br />\nRibbon Cutting @ 11:45 a.m.
LOCATION:131 Corley Mill Road Lexington\, SC 29072
UID:e.1333.3359
SEQUENCE:3
DTSTAMP:20260422T203121Z
URL:https://business.greaterirmochamber.com/events/details/ribbon-cutting-at-woodridge-memorial-park-funeral-home-3359
END:VEVENT

END:VCALENDAR
